BEGIN:VCALENDAR
VERSION:2.0
PRODID:-//Tukios.com/
BEGIN:VEVENT
UID:99e53970-3909-4561-80d7-52e9ced60b74@www.eighnerfuneralhomes.com
DTSTAMP:20260420T211715Z
DTSTART:20260718
SUMMARY:Burial
DESCRIPTION:
URL:https://www.eighnerfuneralhomes.com/obituaries/joseph-hamilton
LOCATION: 1400 S Wolf Rd  Hillside IL 60162
GEO:41.8671553;-87.907736
END:VEVENT
END:VCALENDAR