BEGIN:VCALENDAR
VERSION:2.0
PRODID:-//Tukios.com/
BEGIN:VEVENT
UID:7ff4570f-c914-4efb-9bc9-300054016196@www.eighnerfuneralhomes.com
DTSTAMP:20260425T162214Z
DTSTART:20260516T160000Z
DTEND:20260516T170000Z
SUMMARY:Memorial Service
DESCRIPTION:
URL:https://www.eighnerfuneralhomes.com/obituaries/candis-larson
LOCATION:Millbrook United Methodist Church 8360 Fox River Drive  
	Millbrook IL 60536
GEO:41.5973146;-88.5532609
END:VEVENT
END:VCALENDAR