BEGIN:VCALENDAR
VERSION:2.0
PRODID:-//Tukios.com/
BEGIN:VEVENT
UID:e7929ec9-0d66-4275-bc0b-7830a634b3fe@www.eighnerfuneralhomes.com
DTSTAMP:20260425T162333Z
DTSTART:20260516T150000Z
DTEND:20260516T160000Z
SUMMARY:Visitation
DESCRIPTION:
URL:https://www.eighnerfuneralhomes.com/obituaries/candis-larson
LOCATION:Millbrook United Methodist Church 8360 Fox River Drive  
	Millbrook IL 60536
GEO:41.5973146;-88.5532609
END:VEVENT
END:VCALENDAR